BEGIN:VCALENDAR
VERSION:2.0
PRODID:-//GOLDEN GATE GYRO - ECPv6.1.2.2//NONSGML v1.0//EN
CALSCALE:GREGORIAN
METHOD:PUBLISH
X-WR-CALNAME:GOLDEN GATE GYRO
X-ORIGINAL-URL:https://goldengategyro.com
X-WR-CALDESC:Events for GOLDEN GATE GYRO
REFRESH-INTERVAL;VALUE=DURATION:PT1H
X-Robots-Tag:noindex
X-PUBLISHED-TTL:PT1H
BEGIN:VTIMEZONE
TZID:America/Los_Angeles
BEGIN:DAYLIGHT
TZOFFSETFROM:-0800
TZOFFSETTO:-0700
TZNAME:PDT
DTSTART:20230312T100000
END:DAYLIGHT
BEGIN:STANDARD
TZOFFSETFROM:-0700
TZOFFSETTO:-0800
TZNAME:PST
DTSTART:20231105T090000
END:STANDARD
END:VTIMEZONE
BEGIN:VEVENT
DTSTART;TZID=America/Los_Angeles:20230510T141500
DTEND;TZID=America/Los_Angeles:20230510T173000
DTSTAMP:20260417T050728
CREATED:20230713T060145Z
LAST-MODIFIED:20230713T060145Z
UID:10000146-1683728100-1683739800@goldengategyro.com
SUMMARY:ICE Mortgage Pre paid 5/10
DESCRIPTION:Date: May 10thService Time: 3:30-5:30\, must arrive by 2:15 to avoid a late feeAddress: 4420 Rosewood Dr\, PleasantonGuaranteed: Savory 70 tickets @ $15. Meal Only. Must minimize your menu to only offer $15 items. No prices may be shown on the menu. Please have extra food for at least 15 or so extra meals. You will most likely go over your guaranteed amount. You will be paid via credit card at the end of the event.Dessert Guaranteed: 200 tickets @ $8 per ticket.Fee: 10% of total sales
URL:https://goldengategyro.com/event/ice-mortgage-pre-paid-5-10/
LOCATION:Dr\, Pleasanton
END:VEVENT
BEGIN:VEVENT
DTSTART;TZID=America/Los_Angeles:20230808T151500
DTEND;TZID=America/Los_Angeles:20230808T193000
DTSTAMP:20260417T050728
CREATED:20230805T014852Z
LAST-MODIFIED:20230805T014852Z
UID:10000374-1691507700-1691523000@goldengategyro.com
SUMMARY:ICE Mortgage
DESCRIPTION:Date: August 8thTime of Service: 4:30-6:30\, must arrive by 3:45 to avoid a late fee. Address: 4420 Rosewood Dr\, PleasantonGuaranteed: 75 tickets @ $16 per ticket. Each ticket is worth a meal and beverage. You may serve more than 75 tickets so bring some extra. You will be paid at the end of the event for total tickets collected if gone over the guaranteed amount. Fee: 10% of total sales
URL:https://goldengategyro.com/event/ice-mortgage/
LOCATION:Dr\, Pleasanton
END:VEVENT
END:VCALENDAR