BEGIN:VCALENDAR
VERSION:2.0
PRODID:-//GOLDEN GATE GYRO - ECPv6.1.2.2//NONSGML v1.0//EN
CALSCALE:GREGORIAN
METHOD:PUBLISH
X-ORIGINAL-URL:https://goldengategyro.com
X-WR-CALDESC:Events for GOLDEN GATE GYRO
REFRESH-INTERVAL;VALUE=DURATION:PT1H
X-Robots-Tag:noindex
X-PUBLISHED-TTL:PT1H
BEGIN:VTIMEZONE
TZID:America/Los_Angeles
BEGIN:DAYLIGHT
TZOFFSETFROM:-0800
TZOFFSETTO:-0700
TZNAME:PDT
DTSTART:20230312T100000
END:DAYLIGHT
BEGIN:STANDARD
TZOFFSETFROM:-0700
TZOFFSETTO:-0800
TZNAME:PST
DTSTART:20231105T090000
END:STANDARD
BEGIN:DAYLIGHT
TZOFFSETFROM:-0800
TZOFFSETTO:-0700
TZNAME:PDT
DTSTART:20240310T100000
END:DAYLIGHT
BEGIN:STANDARD
TZOFFSETFROM:-0700
TZOFFSETTO:-0800
TZNAME:PST
DTSTART:20241103T090000
END:STANDARD
END:VTIMEZONE
BEGIN:VEVENT
DTSTART;TZID=America/Los_Angeles:20231231T100000
DTEND;TZID=America/Los_Angeles:20231231T170000
DTSTAMP:20260423T231317
CREATED:20231219T104645Z
LAST-MODIFIED:20231219T104645Z
UID:10000522-1704016800-1704042000@goldengategyro.com
SUMMARY:Calicraft
DESCRIPTION:
URL:https://goldengategyro.com/event/calicraft-18/
END:VEVENT
BEGIN:VEVENT
DTSTART;TZID=America/Los_Angeles:20231231T160000
DTEND;TZID=America/Los_Angeles:20231231T200000
DTSTAMP:20260423T231318
CREATED:20231006T165212Z
LAST-MODIFIED:20231006T165212Z
UID:10000479-1704038400-1704052800@goldengategyro.com
SUMMARY:Five suns brewing
DESCRIPTION:
URL:https://goldengategyro.com/event/five-suns-brewing-10/
LOCATION:Five Suns Brewing\, Escobar Street\, Martinez\, CA\, USA
END:VEVENT
BEGIN:VEVENT
DTSTART;TZID=America/Los_Angeles:20240106T160000
DTEND;TZID=America/Los_Angeles:20240106T210000
DTSTAMP:20260423T231318
CREATED:20240103T084937Z
LAST-MODIFIED:20240103T084937Z
UID:10000525-1704556800-1704574800@goldengategyro.com
SUMMARY:3 crosses
DESCRIPTION:Good Afternoon Everyone!  \nI would like to thank each of you for willing to come to our Church Campus in the month of December! We look forward to seeing you here and working with you. I would like to let you know that attached is the schedule of the dates we reserved. I have also attached a map of where you will be in our parking lot. You can come in as early as 5 pm to set up\, if you need to come in earlier please let me know.  \nFriendly reminder alcohol cannot be sold on our campus. I would also like to remind you that if it rains that day our event will be cancelled.  \nI would also like to let you know that I will be going on Maternity starting 11/30/21. If you have any questions please let me know or you can contact Heather. I have put her email and direct phone number below. \nEmail: heather@3crosses.org Cell Phone: 510-514-4230
URL:https://goldengategyro.com/event/3-crosses-3/
LOCATION:3 crosses church
END:VEVENT
BEGIN:VEVENT
DTSTART;TZID=America/Los_Angeles:20240109T160000
DTEND;TZID=America/Los_Angeles:20240109T200000
DTSTAMP:20260423T231318
CREATED:20240103T204838Z
LAST-MODIFIED:20240103T204838Z
UID:10000526-1704816000-1704830400@goldengategyro.com
SUMMARY:Summer lake
DESCRIPTION:
URL:https://goldengategyro.com/event/summer-lake/
END:VEVENT
BEGIN:VEVENT
DTSTART;TZID=America/Los_Angeles:20240111T090000
DTEND;TZID=America/Los_Angeles:20240111T110000
DTSTAMP:20260423T231318
CREATED:20231228T174647Z
LAST-MODIFIED:20231228T174647Z
UID:10000524-1704963600-1704970800@goldengategyro.com
SUMMARY:Busy
DESCRIPTION:
URL:https://goldengategyro.com/event/busy-44/
END:VEVENT
BEGIN:VEVENT
DTSTART;TZID=America/Los_Angeles:20240113T120000
DTEND;TZID=America/Los_Angeles:20240113T170000
DTSTAMP:20260423T231318
CREATED:20240108T204649Z
LAST-MODIFIED:20240108T204649Z
UID:10000528-1705147200-1705165200@goldengategyro.com
SUMMARY:Outlets
DESCRIPTION:
URL:https://goldengategyro.com/event/outlets/
END:VEVENT
BEGIN:VEVENT
DTSTART;TZID=America/Los_Angeles:20240123T110000
DTEND;TZID=America/Los_Angeles:20240123T140000
DTSTAMP:20260423T231318
CREATED:20240121T204659Z
LAST-MODIFIED:20240121T204659Z
UID:10000532-1706007600-1706018400@goldengategyro.com
SUMMARY:Busy
DESCRIPTION:
URL:https://goldengategyro.com/event/busy-45/
END:VEVENT
END:VCALENDAR