BEGIN:VCALENDAR
VERSION:2.0
PRODID:-//GOLDEN GATE GYRO - ECPv6.1.2.2//NONSGML v1.0//EN
CALSCALE:GREGORIAN
METHOD:PUBLISH
X-WR-CALNAME:GOLDEN GATE GYRO
X-ORIGINAL-URL:https://goldengategyro.com
X-WR-CALDESC:Events for GOLDEN GATE GYRO
REFRESH-INTERVAL;VALUE=DURATION:PT1H
X-Robots-Tag:noindex
X-PUBLISHED-TTL:PT1H
BEGIN:VTIMEZONE
TZID:America/Los_Angeles
BEGIN:DAYLIGHT
TZOFFSETFROM:-0800
TZOFFSETTO:-0700
TZNAME:PDT
DTSTART:20240310T100000
END:DAYLIGHT
BEGIN:STANDARD
TZOFFSETFROM:-0700
TZOFFSETTO:-0800
TZNAME:PST
DTSTART:20241103T090000
END:STANDARD
END:VTIMEZONE
BEGIN:VEVENT
DTSTART;TZID=America/Los_Angeles:20241017T110000
DTEND;TZID=America/Los_Angeles:20241017T140000
DTSTAMP:20260421T032748
CREATED:20240903T074938Z
LAST-MODIFIED:20240903T074938Z
UID:10000719-1729162800-1729173600@goldengategyro.com
SUMMARY:Sjc38 Amazon
DESCRIPTION:
URL:https://goldengategyro.com/event/sjc38-amazon/
END:VEVENT
BEGIN:VEVENT
DTSTART;TZID=America/Los_Angeles:20241017T115500
DTEND;TZID=America/Los_Angeles:20241017T133500
DTSTAMP:20260421T032748
CREATED:20240917T024649Z
LAST-MODIFIED:20240917T024649Z
UID:10000732-1729166100-1729172100@goldengategyro.com
SUMMARY:TikTok Private
DESCRIPTION:300 \n10.17 – Golden Gate Gyro (Menu #2) Menu 2 (Halal) Rice platterPortion: 8oz protein\, 6oz rice 6oz saladChoice of protein (chicken\, Lamb and Falafel) basmati rice and side salad spring mix\, tomato\, onion\, cucumbers\, house white
URL:https://goldengategyro.com/event/tiktok-private-3/
LOCATION:250 Bryant St\, Mountain View\, CA 94041\, USA
END:VEVENT
END:VCALENDAR