BEGIN:VCALENDAR
VERSION:2.0
PRODID:-//GOLDEN GATE GYRO - ECPv6.1.2.2//NONSGML v1.0//EN
CALSCALE:GREGORIAN
METHOD:PUBLISH
X-ORIGINAL-URL:https://goldengategyro.com
X-WR-CALDESC:Events for GOLDEN GATE GYRO
REFRESH-INTERVAL;VALUE=DURATION:PT1H
X-Robots-Tag:noindex
X-PUBLISHED-TTL:PT1H
BEGIN:VTIMEZONE
TZID:UTC
BEGIN:STANDARD
TZOFFSETFROM:+0000
TZOFFSETTO:+0000
TZNAME:UTC
DTSTART:20240101T000000
END:STANDARD
END:VTIMEZONE
BEGIN:VEVENT
DTSTART;VALUE=DATE:20241008
DTEND;VALUE=DATE:20241009
DTSTAMP:20260423T160940
CREATED:20240924T064648Z
LAST-MODIFIED:20240924T064648Z
UID:10000744-1728345600-1728431999@goldengategyro.com
SUMMARY:FF Private micron sj
DESCRIPTION:Halal GyrosChoice of protein (lamb\, chicken\, or falafel)\, wrapped in warm pita bread with fresh spring mix\, tomatoes\, onions\, cucumbers\, house white sauceHalal Rice Platters Choice of protein (lamb\, chicken\, or falafel)\, basmati rice with fresh spring mix\, tomatoes\, onions\, cucumbers\, house white sauce
URL:https://goldengategyro.com/event/ff-private-micron-sj/
END:VEVENT
END:VCALENDAR