BEGIN:VCALENDAR
VERSION:2.0
PRODID:-//GOLDEN GATE GYRO - ECPv6.1.2.2//NONSGML v1.0//EN
CALSCALE:GREGORIAN
METHOD:PUBLISH
X-ORIGINAL-URL:https://goldengategyro.com
X-WR-CALDESC:Events for GOLDEN GATE GYRO
REFRESH-INTERVAL;VALUE=DURATION:PT1H
X-Robots-Tag:noindex
X-PUBLISHED-TTL:PT1H
BEGIN:VTIMEZONE
TZID:America/Los_Angeles
BEGIN:DAYLIGHT
TZOFFSETFROM:-0800
TZOFFSETTO:-0700
TZNAME:PDT
DTSTART:20240310T100000
END:DAYLIGHT
BEGIN:STANDARD
TZOFFSETFROM:-0700
TZOFFSETTO:-0800
TZNAME:PST
DTSTART:20241103T090000
END:STANDARD
END:VTIMEZONE
BEGIN:VEVENT
DTSTART;TZID=America/Los_Angeles:20240914T100000
DTEND;TZID=America/Los_Angeles:20240914T120000
DTSTAMP:20260423T173148
CREATED:20240913T034648Z
LAST-MODIFIED:20240913T034648Z
UID:10000727-1726308000-1726315200@goldengategyro.com
SUMMARY:Stride for hope
DESCRIPTION:
URL:https://goldengategyro.com/event/stride-for-hope/
LOCATION:2700 Camino Ramon\, San Ramon\, CA 94583\, USA
END:VEVENT
BEGIN:VEVENT
DTSTART;TZID=America/Los_Angeles:20240914T110000
DTEND;TZID=America/Los_Angeles:20240915T080000
DTSTAMP:20260423T173148
CREATED:20240903T074938Z
LAST-MODIFIED:20240903T074938Z
UID:10000716-1726311600-1726387200@goldengategyro.com
SUMMARY:Calicraft
DESCRIPTION:
URL:https://goldengategyro.com/event/calicraft-28/
END:VEVENT
END:VCALENDAR