BEGIN:VCALENDAR
VERSION:2.0
PRODID:-//GOLDEN GATE GYRO - ECPv6.1.2.2//NONSGML v1.0//EN
CALSCALE:GREGORIAN
METHOD:PUBLISH
X-WR-CALNAME:GOLDEN GATE GYRO
X-ORIGINAL-URL:https://goldengategyro.com
X-WR-CALDESC:Events for GOLDEN GATE GYRO
REFRESH-INTERVAL;VALUE=DURATION:PT1H
X-Robots-Tag:noindex
X-PUBLISHED-TTL:PT1H
BEGIN:VTIMEZONE
TZID:America/Los_Angeles
BEGIN:DAYLIGHT
TZOFFSETFROM:-0800
TZOFFSETTO:-0700
TZNAME:PDT
DTSTART:20240310T100000
END:DAYLIGHT
BEGIN:STANDARD
TZOFFSETFROM:-0700
TZOFFSETTO:-0800
TZNAME:PST
DTSTART:20241103T090000
END:STANDARD
END:VTIMEZONE
BEGIN:VEVENT
DTSTART;TZID=America/Los_Angeles:20240911T110000
DTEND;TZID=America/Los_Angeles:20240911T130000
DTSTAMP:20260425T125906
CREATED:20240501T224643Z
LAST-MODIFIED:20240501T224643Z
UID:10000655-1726052400-1726059600@goldengategyro.com
SUMMARY:Busy
DESCRIPTION:
URL:https://goldengategyro.com/event/busy-110/
END:VEVENT
BEGIN:VEVENT
DTSTART;TZID=America/Los_Angeles:20240911T170000
DTEND;TZID=America/Los_Angeles:20240911T210000
DTSTAMP:20260425T125906
CREATED:20240416T094747Z
LAST-MODIFIED:20240416T094747Z
UID:10000641-1726074000-1726088400@goldengategyro.com
SUMMARY:Foodie crew Brentwood
DESCRIPTION:
URL:https://goldengategyro.com/event/foodie-crew-brentwood-20/
END:VEVENT
END:VCALENDAR