BEGIN:VCALENDAR
VERSION:2.0
PRODID:-//GOLDEN GATE GYRO - ECPv6.1.2.2//NONSGML v1.0//EN
CALSCALE:GREGORIAN
METHOD:PUBLISH
X-ORIGINAL-URL:https://goldengategyro.com
X-WR-CALDESC:Events for GOLDEN GATE GYRO
REFRESH-INTERVAL;VALUE=DURATION:PT1H
X-Robots-Tag:noindex
X-PUBLISHED-TTL:PT1H
BEGIN:VTIMEZONE
TZID:America/Los_Angeles
BEGIN:DAYLIGHT
TZOFFSETFROM:-0800
TZOFFSETTO:-0700
TZNAME:PDT
DTSTART:20240310T100000
END:DAYLIGHT
BEGIN:STANDARD
TZOFFSETFROM:-0700
TZOFFSETTO:-0800
TZNAME:PST
DTSTART:20241103T090000
END:STANDARD
END:VTIMEZONE
BEGIN:VEVENT
DTSTART;TZID=America/Los_Angeles:20240724T110000
DTEND;TZID=America/Los_Angeles:20240724T140000
DTSTAMP:20260424T003317
CREATED:20240325T105013Z
LAST-MODIFIED:20240325T105013Z
UID:10000585-1721818800-1721829600@goldengategyro.com
SUMMARY:Busy
DESCRIPTION:
URL:https://goldengategyro.com/event/busy-73/
END:VEVENT
BEGIN:VEVENT
DTSTART;TZID=America/Los_Angeles:20240724T150500
DTEND;TZID=America/Los_Angeles:20240724T200500
DTSTAMP:20260424T003317
CREATED:20240702T164646Z
LAST-MODIFIED:20240702T164646Z
UID:10000693-1721833500-1721851500@goldengategyro.com
SUMMARY:Cali
DESCRIPTION:
URL:https://goldengategyro.com/event/cali-3/
END:VEVENT
BEGIN:VEVENT
DTSTART;TZID=America/Los_Angeles:20240724T170000
DTEND;TZID=America/Los_Angeles:20240724T200000
DTSTAMP:20260424T003317
CREATED:20240719T214708Z
LAST-MODIFIED:20240719T214708Z
UID:10000695-1721840400-1721851200@goldengategyro.com
SUMMARY:Stanford EVGR
DESCRIPTION:
URL:https://goldengategyro.com/event/stanford-evgr-2/
LOCATION:735 Campus Drive\, Stanford\, CA 94305\, USA
END:VEVENT
END:VCALENDAR