BEGIN:VCALENDAR
VERSION:2.0
PRODID:-//GOLDEN GATE GYRO - ECPv6.1.2.2//NONSGML v1.0//EN
CALSCALE:GREGORIAN
METHOD:PUBLISH
X-WR-CALNAME:GOLDEN GATE GYRO
X-ORIGINAL-URL:https://goldengategyro.com
X-WR-CALDESC:Events for GOLDEN GATE GYRO
REFRESH-INTERVAL;VALUE=DURATION:PT1H
X-Robots-Tag:noindex
X-PUBLISHED-TTL:PT1H
BEGIN:VTIMEZONE
TZID:America/Los_Angeles
BEGIN:DAYLIGHT
TZOFFSETFROM:-0800
TZOFFSETTO:-0700
TZNAME:PDT
DTSTART:20240310T100000
END:DAYLIGHT
BEGIN:STANDARD
TZOFFSETFROM:-0700
TZOFFSETTO:-0800
TZNAME:PST
DTSTART:20241103T090000
END:STANDARD
END:VTIMEZONE
BEGIN:VEVENT
DTSTART;TZID=America/Los_Angeles:20240722T170000
DTEND;TZID=America/Los_Angeles:20240722T200000
DTSTAMP:20260421T013130
CREATED:20240620T154747Z
LAST-MODIFIED:20240620T154747Z
UID:10000687-1721667600-1721678400@goldengategyro.com
SUMMARY:Gale Randh HOA
DESCRIPTION:Date: June 22ndTime of Event: 5:00-8:00\, must arrive by 4:00 to avoid a late fee. Address: 9900 Broadmoor Dr\, San RamonGuaranteed: 125 tickets @ $15 per ticket. You will be paid for the total amount of tickets collected at the end of the event if gone over the guaranteed amount. Each ticket must include a meal and beverage.
URL:https://goldengategyro.com/event/gale-randh-hoa/
LOCATION:9900 Broadmoor Dr\, San Ramon\, CA 94583\, USA
END:VEVENT
END:VCALENDAR