BEGIN:VCALENDAR
VERSION:2.0
PRODID:-//GOLDEN GATE GYRO - ECPv6.1.2.2//NONSGML v1.0//EN
CALSCALE:GREGORIAN
METHOD:PUBLISH
X-WR-CALNAME:GOLDEN GATE GYRO
X-ORIGINAL-URL:https://goldengategyro.com
X-WR-CALDESC:Events for GOLDEN GATE GYRO
REFRESH-INTERVAL;VALUE=DURATION:PT1H
X-Robots-Tag:noindex
X-PUBLISHED-TTL:PT1H
BEGIN:VTIMEZONE
TZID:America/Los_Angeles
BEGIN:DAYLIGHT
TZOFFSETFROM:-0800
TZOFFSETTO:-0700
TZNAME:PDT
DTSTART:20240310T100000
END:DAYLIGHT
BEGIN:STANDARD
TZOFFSETFROM:-0700
TZOFFSETTO:-0800
TZNAME:PST
DTSTART:20241103T090000
END:STANDARD
END:VTIMEZONE
BEGIN:VEVENT
DTSTART;TZID=America/Los_Angeles:20240525T110000
DTEND;TZID=America/Los_Angeles:20240525T170000
DTSTAMP:20260424T071833
CREATED:20240522T184657Z
LAST-MODIFIED:20240522T184657Z
UID:10000671-1716634800-1716656400@goldengategyro.com
SUMMARY:G&s cherry farm
DESCRIPTION:
URL:https://goldengategyro.com/event/gs-cherry-farm/
END:VEVENT
BEGIN:VEVENT
DTSTART;TZID=America/Los_Angeles:20240525T120000
DTEND;TZID=America/Los_Angeles:20240525T180000
DTSTAMP:20260424T071833
CREATED:20240521T064658Z
LAST-MODIFIED:20240521T064658Z
UID:10000669-1716638400-1716660000@goldengategyro.com
SUMMARY:Five suns brewing
DESCRIPTION:
URL:https://goldengategyro.com/event/five-suns-brewing-11/
LOCATION:Five Suns Brewing\, Escobar Street\, Martinez\, CA\, USA
END:VEVENT
BEGIN:VEVENT
DTSTART;TZID=America/Los_Angeles:20240525T160000
DTEND;TZID=America/Los_Angeles:20240525T200000
DTSTAMP:20260424T071833
CREATED:20240522T084713Z
LAST-MODIFIED:20240522T084713Z
UID:10000670-1716652800-1716667200@goldengategyro.com
SUMMARY:CaliCraft
DESCRIPTION:
URL:https://goldengategyro.com/event/calicraft-26/
LOCATION:Calicraft Brewing Company\, 2700 Mitchell Dr\, Walnut Creek\, CA 94598\, USA
END:VEVENT
END:VCALENDAR