BEGIN:VCALENDAR
VERSION:2.0
PRODID:-//GOLDEN GATE GYRO - ECPv6.1.2.2//NONSGML v1.0//EN
CALSCALE:GREGORIAN
METHOD:PUBLISH
X-WR-CALNAME:GOLDEN GATE GYRO
X-ORIGINAL-URL:https://goldengategyro.com
X-WR-CALDESC:Events for GOLDEN GATE GYRO
REFRESH-INTERVAL;VALUE=DURATION:PT1H
X-Robots-Tag:noindex
X-PUBLISHED-TTL:PT1H
BEGIN:VTIMEZONE
TZID:America/Los_Angeles
BEGIN:DAYLIGHT
TZOFFSETFROM:-0800
TZOFFSETTO:-0700
TZNAME:PDT
DTSTART:20240310T100000
END:DAYLIGHT
BEGIN:STANDARD
TZOFFSETFROM:-0700
TZOFFSETTO:-0800
TZNAME:PST
DTSTART:20241103T090000
END:STANDARD
END:VTIMEZONE
BEGIN:VEVENT
DTSTART;TZID=America/Los_Angeles:20240518T110000
DTEND;TZID=America/Los_Angeles:20240518T140000
DTSTAMP:20260424T071839
CREATED:20240508T124830Z
LAST-MODIFIED:20240508T124830Z
UID:10000658-1716030000-1716040800@goldengategyro.com
SUMMARY:Wagner elementary Orinda base ball
DESCRIPTION:Wagner Elementary School350 Camino PabloOrinda\, 94563 \nMay 18th and 19thCome set up anytime after 9 am \nMarshall (cc’d  @Schedule Guru – 808-366-3255) runs operations and can answer
URL:https://goldengategyro.com/event/wagner-elementary-orinda-base-ball/
END:VEVENT
BEGIN:VEVENT
DTSTART;TZID=America/Los_Angeles:20240518T120000
DTEND;TZID=America/Los_Angeles:20240518T160000
DTSTAMP:20260424T071839
CREATED:20240413T184810Z
LAST-MODIFIED:20240413T184810Z
UID:10000632-1716033600-1716048000@goldengategyro.com
SUMMARY:Five suns
DESCRIPTION:
URL:https://goldengategyro.com/event/five-suns-9/
END:VEVENT
END:VCALENDAR