BEGIN:VCALENDAR
VERSION:2.0
PRODID:-//GOLDEN GATE GYRO - ECPv6.1.2.2//NONSGML v1.0//EN
CALSCALE:GREGORIAN
METHOD:PUBLISH
X-WR-CALNAME:GOLDEN GATE GYRO
X-ORIGINAL-URL:https://goldengategyro.com
X-WR-CALDESC:Events for GOLDEN GATE GYRO
REFRESH-INTERVAL;VALUE=DURATION:PT1H
X-Robots-Tag:noindex
X-PUBLISHED-TTL:PT1H
BEGIN:VTIMEZONE
TZID:America/Los_Angeles
BEGIN:DAYLIGHT
TZOFFSETFROM:-0800
TZOFFSETTO:-0700
TZNAME:PDT
DTSTART:20240310T100000
END:DAYLIGHT
BEGIN:STANDARD
TZOFFSETFROM:-0700
TZOFFSETTO:-0800
TZNAME:PST
DTSTART:20241103T090000
END:STANDARD
END:VTIMEZONE
BEGIN:VEVENT
DTSTART;TZID=America/Los_Angeles:20240313T160000
DTEND;TZID=America/Los_Angeles:20240313T200000
DTSTAMP:20260424T043955
CREATED:20240124T034719Z
LAST-MODIFIED:20240124T034719Z
UID:10000535-1710345600-1710360000@goldengategyro.com
SUMMARY:Five suns
DESCRIPTION:
URL:https://goldengategyro.com/event/five-suns-6/
END:VEVENT
BEGIN:VEVENT
DTSTART;TZID=America/Los_Angeles:20240313T160000
DTEND;TZID=America/Los_Angeles:20240313T200000
DTSTAMP:20260424T043955
CREATED:20240312T234812Z
LAST-MODIFIED:20240312T234812Z
UID:10000566-1710345600-1710360000@goldengategyro.com
SUMMARY:CaliCraft
DESCRIPTION:
URL:https://goldengategyro.com/event/calicraft-23/
LOCATION:Calicraft Brewing Company\, 2700 Mitchell Dr\, Walnut Creek\, CA 94598\, USA
END:VEVENT
END:VCALENDAR