BEGIN:VCALENDAR
VERSION:2.0
PRODID:-//GOLDEN GATE GYRO - ECPv6.1.2.2//NONSGML v1.0//EN
CALSCALE:GREGORIAN
METHOD:PUBLISH
X-WR-CALNAME:GOLDEN GATE GYRO
X-ORIGINAL-URL:https://goldengategyro.com
X-WR-CALDESC:Events for GOLDEN GATE GYRO
REFRESH-INTERVAL;VALUE=DURATION:PT1H
X-Robots-Tag:noindex
X-PUBLISHED-TTL:PT1H
BEGIN:VTIMEZONE
TZID:America/Los_Angeles
BEGIN:DAYLIGHT
TZOFFSETFROM:-0800
TZOFFSETTO:-0700
TZNAME:PDT
DTSTART:20240310T100000
END:DAYLIGHT
BEGIN:STANDARD
TZOFFSETFROM:-0700
TZOFFSETTO:-0800
TZNAME:PST
DTSTART:20241103T090000
END:STANDARD
END:VTIMEZONE
BEGIN:VEVENT
DTSTART;TZID=America/Los_Angeles:20240228T113000
DTEND;TZID=America/Los_Angeles:20240228T134500
DTSTAMP:20260424T032011
CREATED:20240203T074647Z
LAST-MODIFIED:20240203T074647Z
UID:10000543-1709119800-1709127900@goldengategyro.com
SUMMARY:CA plaza
DESCRIPTION:
URL:https://goldengategyro.com/event/ca-plaza-6/
LOCATION:2121 N California Blvd\, Walnut Creek\, CA 94596\, USA
END:VEVENT
BEGIN:VEVENT
DTSTART;TZID=America/Los_Angeles:20240228T160000
DTEND;TZID=America/Los_Angeles:20240228T200000
DTSTAMP:20260424T032011
CREATED:20240108T204650Z
LAST-MODIFIED:20240108T204650Z
UID:10000531-1709136000-1709150400@goldengategyro.com
SUMMARY:Calicraft
DESCRIPTION:
URL:https://goldengategyro.com/event/calicraft-21/
END:VEVENT
BEGIN:VEVENT
DTSTART;TZID=America/Los_Angeles:20240228T160000
DTEND;TZID=America/Los_Angeles:20240228T200000
DTSTAMP:20260424T032011
CREATED:20240124T034719Z
LAST-MODIFIED:20240124T034719Z
UID:10000534-1709136000-1709150400@goldengategyro.com
SUMMARY:Five suns
DESCRIPTION:
URL:https://goldengategyro.com/event/five-suns-5/
END:VEVENT
END:VCALENDAR