BEGIN:VCALENDAR
VERSION:2.0
PRODID:-//GOLDEN GATE GYRO - ECPv6.1.2.2//NONSGML v1.0//EN
CALSCALE:GREGORIAN
METHOD:PUBLISH
X-WR-CALNAME:GOLDEN GATE GYRO
X-ORIGINAL-URL:https://goldengategyro.com
X-WR-CALDESC:Events for GOLDEN GATE GYRO
REFRESH-INTERVAL;VALUE=DURATION:PT1H
X-Robots-Tag:noindex
X-PUBLISHED-TTL:PT1H
BEGIN:VTIMEZONE
TZID:America/Los_Angeles
BEGIN:DAYLIGHT
TZOFFSETFROM:-0800
TZOFFSETTO:-0700
TZNAME:PDT
DTSTART:20230312T100000
END:DAYLIGHT
BEGIN:STANDARD
TZOFFSETFROM:-0700
TZOFFSETTO:-0800
TZNAME:PST
DTSTART:20231105T090000
END:STANDARD
END:VTIMEZONE
BEGIN:VEVENT
DTSTART;TZID=America/Los_Angeles:20231203T100000
DTEND;TZID=America/Los_Angeles:20231203T143000
DTSTAMP:20260424T003147
CREATED:20231124T064845Z
LAST-MODIFIED:20231124T064845Z
UID:10000507-1701597600-1701613800@goldengategyro.com
SUMMARY:Busy
DESCRIPTION:
URL:https://goldengategyro.com/event/busy-41/
END:VEVENT
BEGIN:VEVENT
DTSTART;TZID=America/Los_Angeles:20231203T110000
DTEND;TZID=America/Los_Angeles:20231203T150000
DTSTAMP:20260424T003147
CREATED:20231201T104727Z
LAST-MODIFIED:20231201T104727Z
UID:10000511-1701601200-1701615600@goldengategyro.com
SUMMARY:FTM
DESCRIPTION:Date: December 3rdTime of Event: 11:00-3:00\, must arrive by 10:30 to avoid a late feeAddress: 920 Peninsula Way\, Menlo ParkGuaranteed: $1\,000 in salesFee: $45+10% of total sales
URL:https://goldengategyro.com/event/ftm-14/
END:VEVENT
END:VCALENDAR