BEGIN:VCALENDAR
VERSION:2.0
PRODID:-//GOLDEN GATE GYRO - ECPv6.1.2.2//NONSGML v1.0//EN
CALSCALE:GREGORIAN
METHOD:PUBLISH
X-WR-CALNAME:GOLDEN GATE GYRO
X-ORIGINAL-URL:https://goldengategyro.com
X-WR-CALDESC:Events for GOLDEN GATE GYRO
REFRESH-INTERVAL;VALUE=DURATION:PT1H
X-Robots-Tag:noindex
X-PUBLISHED-TTL:PT1H
BEGIN:VTIMEZONE
TZID:America/Los_Angeles
BEGIN:DAYLIGHT
TZOFFSETFROM:-0800
TZOFFSETTO:-0700
TZNAME:PDT
DTSTART:20230312T100000
END:DAYLIGHT
BEGIN:STANDARD
TZOFFSETFROM:-0700
TZOFFSETTO:-0800
TZNAME:PST
DTSTART:20231105T090000
END:STANDARD
END:VTIMEZONE
BEGIN:VEVENT
DTSTART;TZID=America/Los_Angeles:20231014T110000
DTEND;TZID=America/Los_Angeles:20231014T140000
DTSTAMP:20260423T200439
CREATED:20231005T170450Z
LAST-MODIFIED:20231005T170450Z
UID:10000470-1697281200-1697292000@goldengategyro.com
SUMMARY:Busy
DESCRIPTION:
URL:https://goldengategyro.com/event/busy-26/
END:VEVENT
BEGIN:VEVENT
DTSTART;TZID=America/Los_Angeles:20231014T110000
DTEND;TZID=America/Los_Angeles:20231014T150000
DTSTAMP:20260423T200439
CREATED:20230713T060201Z
LAST-MODIFIED:20230713T060201Z
UID:10000326-1697281200-1697295600@goldengategyro.com
SUMMARY:Mustang
DESCRIPTION:The Diablo Valley Mustang Association is excited to present its Annual Mustang and All-Fords Car Show on October 14\, 2023\, from 10:00am to 3:00pm hosted by The Cobra Experience Museum in Martinez. We are expecting over 100 participants plus over 300 more car enthusiasts and spectators.We
URL:https://goldengategyro.com/event/mustang/
END:VEVENT
BEGIN:VEVENT
DTSTART;TZID=America/Los_Angeles:20231014T140000
DTEND;TZID=America/Los_Angeles:20231014T180000
DTSTAMP:20260423T200439
CREATED:20230810T061010Z
LAST-MODIFIED:20230810T061010Z
UID:10000383-1697292000-1697306400@goldengategyro.com
SUMMARY:Busy
DESCRIPTION:
URL:https://goldengategyro.com/event/busy-16/
END:VEVENT
END:VCALENDAR