BEGIN:VCALENDAR
VERSION:2.0
PRODID:-//GOLDEN GATE GYRO - ECPv6.1.2.2//NONSGML v1.0//EN
CALSCALE:GREGORIAN
METHOD:PUBLISH
X-ORIGINAL-URL:https://goldengategyro.com
X-WR-CALDESC:Events for GOLDEN GATE GYRO
REFRESH-INTERVAL;VALUE=DURATION:PT1H
X-Robots-Tag:noindex
X-PUBLISHED-TTL:PT1H
BEGIN:VTIMEZONE
TZID:America/Los_Angeles
BEGIN:DAYLIGHT
TZOFFSETFROM:-0800
TZOFFSETTO:-0700
TZNAME:PDT
DTSTART:20230312T100000
END:DAYLIGHT
BEGIN:STANDARD
TZOFFSETFROM:-0700
TZOFFSETTO:-0800
TZNAME:PST
DTSTART:20231105T090000
END:STANDARD
END:VTIMEZONE
BEGIN:VEVENT
DTSTART;TZID=America/Los_Angeles:20230929T160000
DTEND;TZID=America/Los_Angeles:20230929T200000
DTSTAMP:20260423T173022
CREATED:20230911T165016Z
LAST-MODIFIED:20230911T165016Z
UID:10000443-1696003200-1696017600@goldengategyro.com
SUMMARY:Ftm
DESCRIPTION:o\,I am looking for 4 savory and 1 dessert truck to attend their annual Fall Festival event. We have done this School’s events for many years now and trucks do good.  \nDate: Sept 29thTime of Event: 5:00-8:00\, must arrive by 4:30 to avoid a late fee.Address: 391 Ontaio Dr\, LivermoreFee: $45+10% of total sales
URL:https://goldengategyro.com/event/ftm-10/
END:VEVENT
BEGIN:VEVENT
DTSTART;TZID=America/Los_Angeles:20230929T170000
DTEND;TZID=America/Los_Angeles:20230929T210000
DTSTAMP:20260423T173022
CREATED:20230713T060200Z
LAST-MODIFIED:20230713T060200Z
UID:10000321-1696006800-1696021200@goldengategyro.com
SUMMARY:OMCA
DESCRIPTION:Hello Golden Gate Gyro Team\, \nYou have been confirmed for and assigned to the following event: \nEvent Name: Friday Nights at OMCA \nEvent Date / Start Time: 6/17/2022 5:00 PM \nCreator Arrival Time : 30 minutes before the scheduled Start time. \nCreator Departure Time: 30 Minutes after the event ends \nPlease let us know if you have any questions or if you’ve found this message as an error! \nThank you!
URL:https://goldengategyro.com/event/omca-20/
LOCATION:Oakland Museum of California (OMCA)\, 1000 Oak St\, Oakland\, CA 94607\, USA
END:VEVENT
END:VCALENDAR