BEGIN:VCALENDAR
VERSION:2.0
PRODID:-//GOLDEN GATE GYRO - ECPv6.1.2.2//NONSGML v1.0//EN
CALSCALE:GREGORIAN
METHOD:PUBLISH
X-ORIGINAL-URL:https://goldengategyro.com
X-WR-CALDESC:Events for GOLDEN GATE GYRO
REFRESH-INTERVAL;VALUE=DURATION:PT1H
X-Robots-Tag:noindex
X-PUBLISHED-TTL:PT1H
BEGIN:VTIMEZONE
TZID:America/Los_Angeles
BEGIN:DAYLIGHT
TZOFFSETFROM:-0800
TZOFFSETTO:-0700
TZNAME:PDT
DTSTART:20230312T100000
END:DAYLIGHT
BEGIN:STANDARD
TZOFFSETFROM:-0700
TZOFFSETTO:-0800
TZNAME:PST
DTSTART:20231105T090000
END:STANDARD
END:VTIMEZONE
BEGIN:VEVENT
DTSTART;TZID=America/Los_Angeles:20230923T100000
DTEND;TZID=America/Los_Angeles:20230923T150000
DTSTAMP:20260423T213807
CREATED:20230825T175837Z
LAST-MODIFIED:20230825T175837Z
UID:10000416-1695463200-1695481200@goldengategyro.com
SUMMARY:As
DESCRIPTION:
URL:https://goldengategyro.com/event/as/
END:VEVENT
BEGIN:VEVENT
DTSTART;TZID=America/Los_Angeles:20230923T110000
DTEND;TZID=America/Los_Angeles:20230923T140000
DTSTAMP:20260423T213807
CREATED:20230826T010510Z
LAST-MODIFIED:20230826T010510Z
UID:10000422-1695466800-1695477600@goldengategyro.com
SUMMARY:FTM
DESCRIPTION:Date: Sept 23rdTime of event: 11:00-2:00\, must arrive by 10:15Address: WaterFront Park 201 N. Court St\, MartinezFee: $45+10% of total sales
URL:https://goldengategyro.com/event/ftm-9/
END:VEVENT
BEGIN:VEVENT
DTSTART;TZID=America/Los_Angeles:20230923T110000
DTEND;TZID=America/Los_Angeles:20230923T150000
DTSTAMP:20260423T213807
CREATED:20230713T060200Z
LAST-MODIFIED:20230713T060200Z
UID:10000318-1695466800-1695481200@goldengategyro.com
SUMMARY:Alameda south shore
DESCRIPTION:
URL:https://goldengategyro.com/event/alameda-south-shore-13/
LOCATION:535 S Shore Center\, Alameda\, CA 94501\, USA
END:VEVENT
BEGIN:VEVENT
DTSTART;TZID=America/Los_Angeles:20230923T170000
DTEND;TZID=America/Los_Angeles:20230923T200000
DTSTAMP:20260423T213807
CREATED:20230920T160030Z
LAST-MODIFIED:20230920T160030Z
UID:10000454-1695488400-1695499200@goldengategyro.com
SUMMARY:Busy
DESCRIPTION:
URL:https://goldengategyro.com/event/busy-22/
END:VEVENT
END:VCALENDAR