BEGIN:VCALENDAR
VERSION:2.0
PRODID:-//GOLDEN GATE GYRO - ECPv6.1.2.2//NONSGML v1.0//EN
CALSCALE:GREGORIAN
METHOD:PUBLISH
X-ORIGINAL-URL:https://goldengategyro.com
X-WR-CALDESC:Events for GOLDEN GATE GYRO
REFRESH-INTERVAL;VALUE=DURATION:PT1H
X-Robots-Tag:noindex
X-PUBLISHED-TTL:PT1H
BEGIN:VTIMEZONE
TZID:America/Los_Angeles
BEGIN:DAYLIGHT
TZOFFSETFROM:-0800
TZOFFSETTO:-0700
TZNAME:PDT
DTSTART:20230312T100000
END:DAYLIGHT
BEGIN:STANDARD
TZOFFSETFROM:-0700
TZOFFSETTO:-0800
TZNAME:PST
DTSTART:20231105T090000
END:STANDARD
END:VTIMEZONE
BEGIN:VEVENT
DTSTART;TZID=America/Los_Angeles:20230922T150000
DTEND;TZID=America/Los_Angeles:20230922T190000
DTSTAMP:20260423T200727
CREATED:20230810T204950Z
LAST-MODIFIED:20230810T204950Z
UID:10000388-1695394800-1695409200@goldengategyro.com
SUMMARY:Private
DESCRIPTION:me: Laura LimasaPhone: 6698991452Email: walkathon.williams@gmail.comSubject: Williams Elementary Walk-A-Thon 9/22/23Message: Hello! \nI’m the Co-Chair of the Williams Elementary School Walk-A-Thon taking place on Friday September 22\, 2023 from 3:30-6:30 PM. We are located in San Jose in the Almaden neighborhood. We expect 500-700 attendees who would each pay for their meals. We’d love 10-15% of proceeds to be donated to us. Are you available that day?
URL:https://goldengategyro.com/event/private-8/
END:VEVENT
BEGIN:VEVENT
DTSTART;TZID=America/Los_Angeles:20230922T163000
DTEND;TZID=America/Los_Angeles:20230922T213000
DTSTAMP:20260423T200727
CREATED:20230825T234859Z
LAST-MODIFIED:20230825T234859Z
UID:10000420-1695400200-1695418200@goldengategyro.com
SUMMARY:DVHS
DESCRIPTION:
URL:https://goldengategyro.com/event/dvhs-2/
LOCATION:Dougherty Valley High School\, 10550 Albion Rd\, San Ramon\, CA 94582\, USA
END:VEVENT
BEGIN:VEVENT
DTSTART;TZID=America/Los_Angeles:20230922T170000
DTEND;TZID=America/Los_Angeles:20230922T210000
DTSTAMP:20260423T200727
CREATED:20230713T060200Z
LAST-MODIFIED:20230713T060200Z
UID:10000317-1695402000-1695416400@goldengategyro.com
SUMMARY:Avalon Bay WC
DESCRIPTION:AVALON BAY – WALNUT CREEK (BART) (DINNER)ADDRESS – 1001 Harvey Dr.\, Walnut Creek\, CA\, 94597ARRIVE – 4:00pmSERVE – 5:00pm – 9:00pmDEPART – 9:15pmHEADCOUNT – 1000+TRUCK(s) – 4 savory trucks + 1 dessertTOW FEE – $50+10%
URL:https://goldengategyro.com/event/avalon-bay-wc-2/
LOCATION:Harvey Drive\, Harvey Dr\, Walnut Creek\, CA 94597\, USA
END:VEVENT
BEGIN:VEVENT
DTSTART;TZID=America/Los_Angeles:20230922T170000
DTEND;TZID=America/Los_Angeles:20230922T210000
DTSTAMP:20260423T200727
CREATED:20230825T175837Z
LAST-MODIFIED:20230825T175837Z
UID:10000415-1695402000-1695416400@goldengategyro.com
SUMMARY:Fremont se
DESCRIPTION:
URL:https://goldengategyro.com/event/fremont-se-7/
LOCATION:2400 Stevenson Blvd\, Fremont\, CA 94538\, USA
END:VEVENT
BEGIN:VEVENT
DTSTART;TZID=America/Los_Angeles:20230922T170000
DTEND;TZID=America/Los_Angeles:20230922T220000
DTSTAMP:20260423T200727
CREATED:20230830T184704Z
LAST-MODIFIED:20230830T184704Z
UID:10000429-1695402000-1695420000@goldengategyro.com
SUMMARY:Busy
DESCRIPTION:
URL:https://goldengategyro.com/event/busy-19/
END:VEVENT
END:VCALENDAR