BEGIN:VCALENDAR
VERSION:2.0
PRODID:-//GOLDEN GATE GYRO - ECPv6.1.2.2//NONSGML v1.0//EN
CALSCALE:GREGORIAN
METHOD:PUBLISH
X-ORIGINAL-URL:https://goldengategyro.com
X-WR-CALDESC:Events for GOLDEN GATE GYRO
REFRESH-INTERVAL;VALUE=DURATION:PT1H
X-Robots-Tag:noindex
X-PUBLISHED-TTL:PT1H
BEGIN:VTIMEZONE
TZID:America/Los_Angeles
BEGIN:DAYLIGHT
TZOFFSETFROM:-0800
TZOFFSETTO:-0700
TZNAME:PDT
DTSTART:20230312T100000
END:DAYLIGHT
BEGIN:STANDARD
TZOFFSETFROM:-0700
TZOFFSETTO:-0800
TZNAME:PST
DTSTART:20231105T090000
END:STANDARD
END:VTIMEZONE
BEGIN:VEVENT
DTSTART;TZID=America/Los_Angeles:20230921T110000
DTEND;TZID=America/Los_Angeles:20230921T140000
DTSTAMP:20260423T200215
CREATED:20230913T185307Z
LAST-MODIFIED:20230913T185307Z
UID:10000445-1695294000-1695304800@goldengategyro.com
SUMMARY:Abbot
DESCRIPTION:Shahzad event
URL:https://goldengategyro.com/event/abbot/
END:VEVENT
BEGIN:VEVENT
DTSTART;TZID=America/Los_Angeles:20230921T150000
DTEND;TZID=America/Los_Angeles:20230921T190000
DTSTAMP:20260423T200215
CREATED:20230906T060454Z
LAST-MODIFIED:20230906T060454Z
UID:10000431-1695308400-1695322800@goldengategyro.com
SUMMARY:McCauley estate
DESCRIPTION:
URL:https://goldengategyro.com/event/mccauley-estate-2/
LOCATION:McCauley Estate Vineyards 2525 Sunset Rd\, Brentwood\, CA  94513\, United States
END:VEVENT
BEGIN:VEVENT
DTSTART;TZID=America/Los_Angeles:20230921T160000
DTEND;TZID=America/Los_Angeles:20230921T200000
DTSTAMP:20260423T200215
CREATED:20230913T185307Z
LAST-MODIFIED:20230913T185307Z
UID:10000446-1695312000-1695326400@goldengategyro.com
SUMMARY:Morello school
DESCRIPTION:
URL:https://goldengategyro.com/event/morello-school/
LOCATION:Morello Park Elementary School 1200 Morello Park Dr\, Martinez\, CA  94553\, United States
END:VEVENT
END:VCALENDAR