BEGIN:VCALENDAR
VERSION:2.0
PRODID:-//GOLDEN GATE GYRO - ECPv6.1.2.2//NONSGML v1.0//EN
CALSCALE:GREGORIAN
METHOD:PUBLISH
X-ORIGINAL-URL:https://goldengategyro.com
X-WR-CALDESC:Events for GOLDEN GATE GYRO
REFRESH-INTERVAL;VALUE=DURATION:PT1H
X-Robots-Tag:noindex
X-PUBLISHED-TTL:PT1H
BEGIN:VTIMEZONE
TZID:America/Los_Angeles
BEGIN:DAYLIGHT
TZOFFSETFROM:-0800
TZOFFSETTO:-0700
TZNAME:PDT
DTSTART:20230312T100000
END:DAYLIGHT
BEGIN:STANDARD
TZOFFSETFROM:-0700
TZOFFSETTO:-0800
TZNAME:PST
DTSTART:20231105T090000
END:STANDARD
END:VTIMEZONE
BEGIN:VEVENT
DTSTART;TZID=America/Los_Angeles:20230913T100000
DTEND;TZID=America/Los_Angeles:20230913T140000
DTSTAMP:20260423T200215
CREATED:20230825T175837Z
LAST-MODIFIED:20230825T175837Z
UID:10000414-1694599200-1694613600@goldengategyro.com
SUMMARY:Mills collage GGG FOOD FLT
DESCRIPTION:QtyPriceTotal200GG Gyro Rice Platter8oz of protein of choice over basmati rice servedProtein Choices: Chicken\, lamb\, or falafel
URL:https://goldengategyro.com/event/mills-collage-ggg-food-flt-7/
END:VEVENT
BEGIN:VEVENT
DTSTART;TZID=America/Los_Angeles:20230913T170000
DTEND;TZID=America/Los_Angeles:20230913T210000
DTSTAMP:20260423T200215
CREATED:20230713T060200Z
LAST-MODIFIED:20230713T060200Z
UID:10000314-1694624400-1694638800@goldengategyro.com
SUMMARY:Pleasant hill Market OTG
DESCRIPTION:
URL:https://goldengategyro.com/event/pleasant-hill-market-otg-13/
END:VEVENT
BEGIN:VEVENT
DTSTART;TZID=America/Los_Angeles:20230913T170000
DTEND;TZID=America/Los_Angeles:20230913T210000
DTSTAMP:20260423T200215
CREATED:20230828T080901Z
LAST-MODIFIED:20230828T080901Z
UID:10000424-1694624400-1694638800@goldengategyro.com
SUMMARY:Foodie crew Brentwood
DESCRIPTION:
URL:https://goldengategyro.com/event/foodie-crew-brentwood-11/
END:VEVENT
END:VCALENDAR