BEGIN:VCALENDAR
VERSION:2.0
PRODID:-//GOLDEN GATE GYRO - ECPv6.1.2.2//NONSGML v1.0//EN
CALSCALE:GREGORIAN
METHOD:PUBLISH
X-WR-CALNAME:GOLDEN GATE GYRO
X-ORIGINAL-URL:https://goldengategyro.com
X-WR-CALDESC:Events for GOLDEN GATE GYRO
REFRESH-INTERVAL;VALUE=DURATION:PT1H
X-Robots-Tag:noindex
X-PUBLISHED-TTL:PT1H
BEGIN:VTIMEZONE
TZID:America/Los_Angeles
BEGIN:DAYLIGHT
TZOFFSETFROM:-0800
TZOFFSETTO:-0700
TZNAME:PDT
DTSTART:20230312T100000
END:DAYLIGHT
BEGIN:STANDARD
TZOFFSETFROM:-0700
TZOFFSETTO:-0800
TZNAME:PST
DTSTART:20231105T090000
END:STANDARD
END:VTIMEZONE
BEGIN:VEVENT
DTSTART;TZID=America/Los_Angeles:20230908T170000
DTEND;TZID=America/Los_Angeles:20230908T210000
DTSTAMP:20260423T195740
CREATED:20230825T175836Z
LAST-MODIFIED:20230825T175836Z
UID:10000411-1694192400-1694206800@goldengategyro.com
SUMMARY:Fremont se
DESCRIPTION:
URL:https://goldengategyro.com/event/fremont-se-6/
LOCATION:2400 Stevenson Blvd\, Fremont\, CA 94538\, USA
END:VEVENT
BEGIN:VEVENT
DTSTART;TZID=America/Los_Angeles:20230908T170000
DTEND;TZID=America/Los_Angeles:20230908T210000
DTSTAMP:20260423T195740
CREATED:20230907T070214Z
LAST-MODIFIED:20230907T070214Z
UID:10000435-1694192400-1694206800@goldengategyro.com
SUMMARY:Avalon Bay TOW
DESCRIPTION:AVALON BAY (WALNUT CREEK) – CONTRA COSTA CENTRE TRANSIT VILLAGEDINNERFRIDAY\, 4/7 \nADDRESS – 1001 Harvey Dr.\, Walnut Creek\, CA\, 94597ARRIVE – 4:00pmSERVE – 5:00pm – 9:00pmDEPART – 9:15pmHEADCOUNT – 1000+TRUCK(s) – 4 savory trucks + 1 dessertTOW FEE (DESSERT) – $50+10% \nTRUCKSOFIE’S KITCHENROSIE’S FOOD TRUCKCRAZY EMPANADAS GOLDEN GATE GYROMORE LIIFE ICE
URL:https://goldengategyro.com/event/avalon-bay-tow-7/
LOCATION:Avalon Walnut Creek\, 1001 Harvey Dr\, Walnut Creek\, CA 94597\, USA
END:VEVENT
END:VCALENDAR