BEGIN:VCALENDAR
VERSION:2.0
PRODID:-//GOLDEN GATE GYRO - ECPv6.1.2.2//NONSGML v1.0//EN
CALSCALE:GREGORIAN
METHOD:PUBLISH
X-WR-CALNAME:GOLDEN GATE GYRO
X-ORIGINAL-URL:https://goldengategyro.com
X-WR-CALDESC:Events for GOLDEN GATE GYRO
REFRESH-INTERVAL;VALUE=DURATION:PT1H
X-Robots-Tag:noindex
X-PUBLISHED-TTL:PT1H
BEGIN:VTIMEZONE
TZID:America/Los_Angeles
BEGIN:DAYLIGHT
TZOFFSETFROM:-0800
TZOFFSETTO:-0700
TZNAME:PDT
DTSTART:20230312T100000
END:DAYLIGHT
BEGIN:STANDARD
TZOFFSETFROM:-0700
TZOFFSETTO:-0800
TZNAME:PST
DTSTART:20231105T090000
END:STANDARD
END:VTIMEZONE
BEGIN:VEVENT
DTSTART;TZID=America/Los_Angeles:20230903T110000
DTEND;TZID=America/Los_Angeles:20230903T140000
DTSTAMP:20260423T200504
CREATED:20230810T061009Z
LAST-MODIFIED:20230810T061009Z
UID:10000381-1693738800-1693749600@goldengategyro.com
SUMMARY:Busy
DESCRIPTION:
URL:https://goldengategyro.com/event/busy-15/
END:VEVENT
BEGIN:VEVENT
DTSTART;TZID=America/Los_Angeles:20230903T120000
DTEND;TZID=America/Los_Angeles:20230903T200000
DTSTAMP:20260423T200504
CREATED:20230713T060159Z
LAST-MODIFIED:20230713T060159Z
UID:10000309-1693742400-1693771200@goldengategyro.com
SUMMARY:Five suns brewing
DESCRIPTION:
URL:https://goldengategyro.com/event/five-suns-brewing-8/
LOCATION:Five Suns Brewing\, Escobar Street\, Martinez\, CA\, USA
END:VEVENT
BEGIN:VEVENT
DTSTART;TZID=America/Los_Angeles:20230903T183000
DTEND;TZID=America/Los_Angeles:20230903T210000
DTSTAMP:20260423T200504
CREATED:20230829T005449Z
LAST-MODIFIED:20230829T005449Z
UID:10000428-1693765800-1693774800@goldengategyro.com
SUMMARY:Busy
DESCRIPTION:
URL:https://goldengategyro.com/event/busy-18/
END:VEVENT
END:VCALENDAR