BEGIN:VCALENDAR
VERSION:2.0
PRODID:-//GOLDEN GATE GYRO - ECPv6.1.2.2//NONSGML v1.0//EN
CALSCALE:GREGORIAN
METHOD:PUBLISH
X-WR-CALNAME:GOLDEN GATE GYRO
X-ORIGINAL-URL:https://goldengategyro.com
X-WR-CALDESC:Events for GOLDEN GATE GYRO
REFRESH-INTERVAL;VALUE=DURATION:PT1H
X-Robots-Tag:noindex
X-PUBLISHED-TTL:PT1H
BEGIN:VTIMEZONE
TZID:America/Los_Angeles
BEGIN:DAYLIGHT
TZOFFSETFROM:-0800
TZOFFSETTO:-0700
TZNAME:PDT
DTSTART:20230312T100000
END:DAYLIGHT
BEGIN:STANDARD
TZOFFSETFROM:-0700
TZOFFSETTO:-0800
TZNAME:PST
DTSTART:20231105T090000
END:STANDARD
END:VTIMEZONE
BEGIN:VEVENT
DTSTART;TZID=America/Los_Angeles:20230830T170000
DTEND;TZID=America/Los_Angeles:20230830T210000
DTSTAMP:20260422T152136
CREATED:20230713T060159Z
LAST-MODIFIED:20230713T060159Z
UID:10000306-1693414800-1693429200@goldengategyro.com
SUMMARY:Pleasant hill Market OTG
DESCRIPTION:
URL:https://goldengategyro.com/event/pleasant-hill-market-otg-12/
END:VEVENT
BEGIN:VEVENT
DTSTART;TZID=America/Los_Angeles:20230830T180000
DTEND;TZID=America/Los_Angeles:20230830T200000
DTSTAMP:20260422T152136
CREATED:20230713T060159Z
LAST-MODIFIED:20230713T060159Z
UID:10000307-1693418400-1693425600@goldengategyro.com
SUMMARY:Stanford EVGR Pod
DESCRIPTION:
URL:https://goldengategyro.com/event/stanford-evgr-pod-6/
LOCATION:735 Campus Drive\, Stanford\, CA 94305\, USA
END:VEVENT
END:VCALENDAR