BEGIN:VCALENDAR
VERSION:2.0
PRODID:-//GOLDEN GATE GYRO - ECPv6.1.2.2//NONSGML v1.0//EN
CALSCALE:GREGORIAN
METHOD:PUBLISH
X-ORIGINAL-URL:https://goldengategyro.com
X-WR-CALDESC:Events for GOLDEN GATE GYRO
REFRESH-INTERVAL;VALUE=DURATION:PT1H
X-Robots-Tag:noindex
X-PUBLISHED-TTL:PT1H
BEGIN:VTIMEZONE
TZID:America/Los_Angeles
BEGIN:DAYLIGHT
TZOFFSETFROM:-0800
TZOFFSETTO:-0700
TZNAME:PDT
DTSTART:20230312T100000
END:DAYLIGHT
BEGIN:STANDARD
TZOFFSETFROM:-0700
TZOFFSETTO:-0800
TZNAME:PST
DTSTART:20231105T090000
END:STANDARD
END:VTIMEZONE
BEGIN:VEVENT
DTSTART;TZID=America/Los_Angeles:20230825T150000
DTEND;TZID=America/Los_Angeles:20230825T200000
DTSTAMP:20260423T224822
CREATED:20230713T060158Z
LAST-MODIFIED:20230713T060158Z
UID:10000302-1692975600-1692993600@goldengategyro.com
SUMMARY:Campos PRIVATE ONLY TICKET HOLDERS
DESCRIPTION:Anissa Williams
URL:https://goldengategyro.com/event/campos-private-only-ticket-holders-3/
LOCATION:Campos Family Vineyards 3501 Byer Rd\, Byron\, CA  94514\, United States
END:VEVENT
BEGIN:VEVENT
DTSTART;TZID=America/Los_Angeles:20230825T170000
DTEND;TZID=America/Los_Angeles:20230825T200000
DTSTAMP:20260423T224822
CREATED:20230805T014852Z
LAST-MODIFIED:20230805T014852Z
UID:10000376-1692982800-1692993600@goldengategyro.com
SUMMARY:Philly GGG
DESCRIPTION:551 Marshall Dr\, Walnut Creek\, CA 94598 \nBoth trucks  \nAshley marsh \n385-626-5039
URL:https://goldengategyro.com/event/philly-ggg/
END:VEVENT
BEGIN:VEVENT
DTSTART;TZID=America/Los_Angeles:20230825T170000
DTEND;TZID=America/Los_Angeles:20230825T210000
DTSTAMP:20260423T224822
CREATED:20230713T060159Z
LAST-MODIFIED:20230713T060159Z
UID:10000303-1692982800-1692997200@goldengategyro.com
SUMMARY:Avalon Bay WC
DESCRIPTION:AVALON BAY – WALNUT CREEK (BART) (DINNER)ADDRESS – 1001 Harvey Dr.\, Walnut Creek\, CA\, 94597ARRIVE – 4:00pmSERVE – 5:00pm – 9:00pmDEPART – 9:15pmHEADCOUNT – 1000+TRUCK(s) – 4 savory trucks + 1 dessertTOW FEE – $50+10%
URL:https://goldengategyro.com/event/avalon-bay-wc/
LOCATION:Harvey Drive\, Harvey Dr\, Walnut Creek\, CA 94597\, USA
END:VEVENT
BEGIN:VEVENT
DTSTART;TZID=America/Los_Angeles:20230825T170000
DTEND;TZID=America/Los_Angeles:20230825T210000
DTSTAMP:20260423T224822
CREATED:20230804T174914Z
LAST-MODIFIED:20230804T174914Z
UID:10000368-1692982800-1692997200@goldengategyro.com
SUMMARY:Fremont se
DESCRIPTION:
URL:https://goldengategyro.com/event/fremont-se-5/
LOCATION:2400 Stevenson Blvd\, Fremont\, CA 94538\, USA
END:VEVENT
BEGIN:VEVENT
DTSTART;TZID=America/Los_Angeles:20230825T170000
DTEND;TZID=America/Los_Angeles:20230825T210000
DTSTAMP:20260423T224822
CREATED:20230815T214735Z
LAST-MODIFIED:20230815T214735Z
UID:10000392-1692982800-1692997200@goldengategyro.com
SUMMARY:Busy
DESCRIPTION:
URL:https://goldengategyro.com/event/busy-17/
END:VEVENT
BEGIN:VEVENT
DTSTART;TZID=America/Los_Angeles:20230825T170000
DTEND;TZID=America/Los_Angeles:20230825T210000
DTSTAMP:20260423T224822
CREATED:20230821T215048Z
LAST-MODIFIED:20230821T215048Z
UID:10000406-1692982800-1692997200@goldengategyro.com
SUMMARY:OMCA
DESCRIPTION:Hello Golden Gate Gyro Team\, \nYou have been confirmed for and assigned to the following event: \nEvent Name: Friday Nights at OMCA \nEvent Date / Start Time: 6/17/2022 5:00 PM \nCreator Arrival Time : 30 minutes before the scheduled Start time. \nCreator Departure Time: 30 Minutes after the event ends \nPlease let us know if you have any questions or if you’ve found this message as an error! \nThank you!
URL:https://goldengategyro.com/event/omca-24/
LOCATION:Oakland Museum of California (OMCA)\, 1000 Oak St\, Oakland\, CA 94607\, USA
END:VEVENT
END:VCALENDAR