BEGIN:VCALENDAR
VERSION:2.0
PRODID:-//GOLDEN GATE GYRO - ECPv6.1.2.2//NONSGML v1.0//EN
CALSCALE:GREGORIAN
METHOD:PUBLISH
X-ORIGINAL-URL:https://goldengategyro.com
X-WR-CALDESC:Events for GOLDEN GATE GYRO
REFRESH-INTERVAL;VALUE=DURATION:PT1H
X-Robots-Tag:noindex
X-PUBLISHED-TTL:PT1H
BEGIN:VTIMEZONE
TZID:America/Los_Angeles
BEGIN:DAYLIGHT
TZOFFSETFROM:-0800
TZOFFSETTO:-0700
TZNAME:PDT
DTSTART:20230312T100000
END:DAYLIGHT
BEGIN:STANDARD
TZOFFSETFROM:-0700
TZOFFSETTO:-0800
TZNAME:PST
DTSTART:20231105T090000
END:STANDARD
END:VTIMEZONE
BEGIN:VEVENT
DTSTART;TZID=America/Los_Angeles:20230824T110000
DTEND;TZID=America/Los_Angeles:20230824T150000
DTSTAMP:20260424T000907
CREATED:20230821T185014Z
LAST-MODIFIED:20230821T185014Z
UID:10000400-1692874800-1692889200@goldengategyro.com
SUMMARY:OTG CHEGG
DESCRIPTION:
URL:https://goldengategyro.com/event/otg-chegg/
END:VEVENT
BEGIN:VEVENT
DTSTART;TZID=America/Los_Angeles:20230824T170000
DTEND;TZID=America/Los_Angeles:20230824T200000
DTSTAMP:20260424T000907
CREATED:20230821T175028Z
LAST-MODIFIED:20230821T175028Z
UID:10000398-1692896400-1692907200@goldengategyro.com
SUMMARY:Dallas ranch
DESCRIPTION:Back-2-School-Night\, Thursday\, August 24Time: 5:30 – 8 P.M.Location:  Dallas Ranch Middle School                         1401 Mount Hamilton Dr.                         Antioch\, CA  94531                         (925) 779-7485
URL:https://goldengategyro.com/event/dallas-ranch/
END:VEVENT
END:VCALENDAR