BEGIN:VCALENDAR
VERSION:2.0
PRODID:-//GOLDEN GATE GYRO - ECPv6.1.2.2//NONSGML v1.0//EN
CALSCALE:GREGORIAN
METHOD:PUBLISH
X-ORIGINAL-URL:https://goldengategyro.com
X-WR-CALDESC:Events for GOLDEN GATE GYRO
REFRESH-INTERVAL;VALUE=DURATION:PT1H
X-Robots-Tag:noindex
X-PUBLISHED-TTL:PT1H
BEGIN:VTIMEZONE
TZID:America/Los_Angeles
BEGIN:DAYLIGHT
TZOFFSETFROM:-0800
TZOFFSETTO:-0700
TZNAME:PDT
DTSTART:20230312T100000
END:DAYLIGHT
BEGIN:STANDARD
TZOFFSETFROM:-0700
TZOFFSETTO:-0800
TZNAME:PST
DTSTART:20231105T090000
END:STANDARD
END:VTIMEZONE
BEGIN:VEVENT
DTSTART;TZID=America/Los_Angeles:20230819T130000
DTEND;TZID=America/Los_Angeles:20230819T170000
DTSTAMP:20260422T235117
CREATED:20230816T024843Z
LAST-MODIFIED:20230816T024843Z
UID:10000393-1692450000-1692464400@goldengategyro.com
SUMMARY:OTG
DESCRIPTION:Event details \nSat Aug 19\, 2023 \n1:30pm – 4:30pmLucie Stern Theater \n1305 Middlefield RoadPalo Alto\, CA 94301Business: Golden Gate Gyro \, Trailer (1)\, 4PN5940 \nContact: Maritoni Elep
URL:https://goldengategyro.com/event/otg-6/
END:VEVENT
BEGIN:VEVENT
DTSTART;TZID=America/Los_Angeles:20230819T150000
DTEND;TZID=America/Los_Angeles:20230819T200000
DTSTAMP:20260422T235117
CREATED:20230804T085703Z
LAST-MODIFIED:20230804T085703Z
UID:10000364-1692457200-1692475200@goldengategyro.com
SUMMARY:Oakland roots
DESCRIPTION:
URL:https://goldengategyro.com/event/oakland-roots-4/
END:VEVENT
BEGIN:VEVENT
DTSTART;TZID=America/Los_Angeles:20230819T153000
DTEND;TZID=America/Los_Angeles:20230819T173000
DTSTAMP:20260422T235117
CREATED:20230809T184712Z
LAST-MODIFIED:20230809T184712Z
UID:10000380-1692459000-1692466200@goldengategyro.com
SUMMARY:Busy
DESCRIPTION:
URL:https://goldengategyro.com/event/busy-14/
END:VEVENT
END:VCALENDAR