BEGIN:VCALENDAR
VERSION:2.0
PRODID:-//GOLDEN GATE GYRO - ECPv6.1.2.2//NONSGML v1.0//EN
CALSCALE:GREGORIAN
METHOD:PUBLISH
X-WR-CALNAME:GOLDEN GATE GYRO
X-ORIGINAL-URL:https://goldengategyro.com
X-WR-CALDESC:Events for GOLDEN GATE GYRO
REFRESH-INTERVAL;VALUE=DURATION:PT1H
X-Robots-Tag:noindex
X-PUBLISHED-TTL:PT1H
BEGIN:VTIMEZONE
TZID:America/Los_Angeles
BEGIN:DAYLIGHT
TZOFFSETFROM:-0800
TZOFFSETTO:-0700
TZNAME:PDT
DTSTART:20230312T100000
END:DAYLIGHT
BEGIN:STANDARD
TZOFFSETFROM:-0700
TZOFFSETTO:-0800
TZNAME:PST
DTSTART:20231105T090000
END:STANDARD
END:VTIMEZONE
BEGIN:VEVENT
DTSTART;TZID=America/Los_Angeles:20230812T110000
DTEND;TZID=America/Los_Angeles:20230812T150000
DTSTAMP:20260423T032412
CREATED:20230713T060158Z
LAST-MODIFIED:20230713T060158Z
UID:10000294-1691838000-1691852400@goldengategyro.com
SUMMARY:Alameda south shore
DESCRIPTION:
URL:https://goldengategyro.com/event/alameda-south-shore-10/
LOCATION:535 S Shore Center\, Alameda\, CA 94501\, USA
END:VEVENT
END:VCALENDAR