BEGIN:VCALENDAR
VERSION:2.0
PRODID:-//GOLDEN GATE GYRO - ECPv6.1.2.2//NONSGML v1.0//EN
CALSCALE:GREGORIAN
METHOD:PUBLISH
X-WR-CALNAME:GOLDEN GATE GYRO
X-ORIGINAL-URL:https://goldengategyro.com
X-WR-CALDESC:Events for GOLDEN GATE GYRO
REFRESH-INTERVAL;VALUE=DURATION:PT1H
X-Robots-Tag:noindex
X-PUBLISHED-TTL:PT1H
BEGIN:VTIMEZONE
TZID:America/Los_Angeles
BEGIN:DAYLIGHT
TZOFFSETFROM:-0800
TZOFFSETTO:-0700
TZNAME:PDT
DTSTART:20230312T100000
END:DAYLIGHT
BEGIN:STANDARD
TZOFFSETFROM:-0700
TZOFFSETTO:-0800
TZNAME:PST
DTSTART:20231105T090000
END:STANDARD
END:VTIMEZONE
BEGIN:VEVENT
DTSTART;TZID=America/Los_Angeles:20230811T150000
DTEND;TZID=America/Los_Angeles:20230811T200000
DTSTAMP:20260424T000631
CREATED:20230713T060158Z
LAST-MODIFIED:20230713T060158Z
UID:10000293-1691766000-1691784000@goldengategyro.com
SUMMARY:Campos PRIVATE ONLY TICKET HOLDERS
DESCRIPTION:Anissa Williams
URL:https://goldengategyro.com/event/campos-private-only-ticket-holders-2/
LOCATION:Campos Family Vineyards 3501 Byer Rd\, Byron\, CA  94514\, United States
END:VEVENT
BEGIN:VEVENT
DTSTART;TZID=America/Los_Angeles:20230811T170000
DTEND;TZID=America/Los_Angeles:20230811T210000
DTSTAMP:20260424T000631
CREATED:20230727T065741Z
LAST-MODIFIED:20230727T065741Z
UID:10000354-1691773200-1691787600@goldengategyro.com
SUMMARY:Avalon Bay TOW
DESCRIPTION:AVALON BAY (WALNUT CREEK) – CONTRA COSTA CENTRE TRANSIT VILLAGEDINNERFRIDAY\, 4/7 \nADDRESS – 1001 Harvey Dr.\, Walnut Creek\, CA\, 94597ARRIVE – 4:00pmSERVE – 5:00pm – 9:00pmDEPART – 9:15pmHEADCOUNT – 1000+TRUCK(s) – 4 savory trucks + 1 dessertTOW FEE (DESSERT) – $50+10% \nTRUCKSOFIE’S KITCHENROSIE’S FOOD TRUCKCRAZY EMPANADAS GOLDEN GATE GYROMORE LIIFE ICE
URL:https://goldengategyro.com/event/avalon-bay-tow-6/
LOCATION:Avalon Walnut Creek\, 1001 Harvey Dr\, Walnut Creek\, CA 94597\, USA
END:VEVENT
BEGIN:VEVENT
DTSTART;TZID=America/Los_Angeles:20230811T170000
DTEND;TZID=America/Los_Angeles:20230811T210000
DTSTAMP:20260424T000631
CREATED:20230804T174913Z
LAST-MODIFIED:20230804T174913Z
UID:10000367-1691773200-1691787600@goldengategyro.com
SUMMARY:Fremont se
DESCRIPTION:
URL:https://goldengategyro.com/event/fremont-se-4/
LOCATION:2400 Stevenson Blvd\, Fremont\, CA 94538\, USA
END:VEVENT
BEGIN:VEVENT
DTSTART;TZID=America/Los_Angeles:20230811T170000
DTEND;TZID=America/Los_Angeles:20230811T210000
DTSTAMP:20260424T000631
CREATED:20230805T004941Z
LAST-MODIFIED:20230805T004941Z
UID:10000369-1691773200-1691787600@goldengategyro.com
SUMMARY:Fremont se PS philly
DESCRIPTION:
URL:https://goldengategyro.com/event/fremont-se-ps-philly/
LOCATION:2400 Stevenson Blvd\, Fremont\, CA 94538\, USA
END:VEVENT
BEGIN:VEVENT
DTSTART;TZID=America/Los_Angeles:20230811T170000
DTEND;TZID=America/Los_Angeles:20230811T210000
DTSTAMP:20260424T000631
CREATED:20230808T195759Z
LAST-MODIFIED:20230808T195759Z
UID:10000379-1691773200-1691787600@goldengategyro.com
SUMMARY:OMCA
DESCRIPTION:Hello Golden Gate Gyro Team\, \nYou have been confirmed for and assigned to the following event: \nEvent Name: Friday Nights at OMCA \nEvent Date / Start Time: 6/17/2022 5:00 PM \nCreator Arrival Time : 30 minutes before the scheduled Start time. \nCreator Departure Time: 30 Minutes after the event ends \nPlease let us know if you have any questions or if you’ve found this message as an error! \nThank you!
URL:https://goldengategyro.com/event/omca-23/
LOCATION:Oakland Museum of California (OMCA)\, 1000 Oak St\, Oakland\, CA 94607\, USA
END:VEVENT
END:VCALENDAR