BEGIN:VCALENDAR
VERSION:2.0
PRODID:-//GOLDEN GATE GYRO - ECPv6.1.2.2//NONSGML v1.0//EN
CALSCALE:GREGORIAN
METHOD:PUBLISH
X-ORIGINAL-URL:https://goldengategyro.com
X-WR-CALDESC:Events for GOLDEN GATE GYRO
REFRESH-INTERVAL;VALUE=DURATION:PT1H
X-Robots-Tag:noindex
X-PUBLISHED-TTL:PT1H
BEGIN:VTIMEZONE
TZID:America/Los_Angeles
BEGIN:DAYLIGHT
TZOFFSETFROM:-0800
TZOFFSETTO:-0700
TZNAME:PDT
DTSTART:20230312T100000
END:DAYLIGHT
BEGIN:STANDARD
TZOFFSETFROM:-0700
TZOFFSETTO:-0800
TZNAME:PST
DTSTART:20231105T090000
END:STANDARD
END:VTIMEZONE
BEGIN:VEVENT
DTSTART;TZID=America/Los_Angeles:20230809T110000
DTEND;TZID=America/Los_Angeles:20230809T133000
DTSTAMP:20260421T154746
CREATED:20230804T174913Z
LAST-MODIFIED:20230804T174913Z
UID:10000365-1691578800-1691587800@goldengategyro.com
SUMMARY:Plaza at Walnut Creek
DESCRIPTION:
URL:https://goldengategyro.com/event/plaza-at-walnut-creek-2/
LOCATION:1333 N California Blvd\, Walnut Creek\, CA 94596\, USA
END:VEVENT
BEGIN:VEVENT
DTSTART;TZID=America/Los_Angeles:20230809T113000
DTEND;TZID=America/Los_Angeles:20230809T140000
DTSTAMP:20260421T154746
CREATED:20230804T174913Z
LAST-MODIFIED:20230804T174913Z
UID:10000366-1691580600-1691589600@goldengategyro.com
SUMMARY:CA plaza
DESCRIPTION:
URL:https://goldengategyro.com/event/ca-plaza-3/
LOCATION:2121 N California Blvd\, Walnut Creek\, CA 94596\, USA
END:VEVENT
BEGIN:VEVENT
DTSTART;TZID=America/Los_Angeles:20230809T170000
DTEND;TZID=America/Los_Angeles:20230809T210000
DTSTAMP:20260421T154746
CREATED:20230805T025251Z
LAST-MODIFIED:20230805T025251Z
UID:10000378-1691600400-1691614800@goldengategyro.com
SUMMARY:Foster city OTG
DESCRIPTION:
URL:https://goldengategyro.com/event/foster-city-otg-2/
END:VEVENT
END:VCALENDAR