BEGIN:VCALENDAR
VERSION:2.0
PRODID:-//GOLDEN GATE GYRO - ECPv6.1.2.2//NONSGML v1.0//EN
CALSCALE:GREGORIAN
METHOD:PUBLISH
X-ORIGINAL-URL:https://goldengategyro.com
X-WR-CALDESC:Events for GOLDEN GATE GYRO
REFRESH-INTERVAL;VALUE=DURATION:PT1H
X-Robots-Tag:noindex
X-PUBLISHED-TTL:PT1H
BEGIN:VTIMEZONE
TZID:America/Los_Angeles
BEGIN:DAYLIGHT
TZOFFSETFROM:-0800
TZOFFSETTO:-0700
TZNAME:PDT
DTSTART:20230312T100000
END:DAYLIGHT
BEGIN:STANDARD
TZOFFSETFROM:-0700
TZOFFSETTO:-0800
TZNAME:PST
DTSTART:20231105T090000
END:STANDARD
END:VTIMEZONE
BEGIN:VEVENT
DTSTART;TZID=America/Los_Angeles:20230721T100000
DTEND;TZID=America/Los_Angeles:20230721T153000
DTSTAMP:20260419T234945
CREATED:20230727T065739Z
LAST-MODIFIED:20230727T065739Z
UID:10000340-1689933600-1689953400@goldengategyro.com
SUMMARY:Private
DESCRIPTION:Friday\, 10-3:30 (1 gyro truck)Saturday\, 10-4:00 (2 Trucks: either gyro or philly cheese steak truck or burger or taqueria) Sunday\, 10-4:00 (2 Trucks: either gyro or philly cheese steak truck or burger or taqueria)
URL:https://goldengategyro.com/event/private-5/
LOCATION:5800 Parkside Dr Pleasanton\, CA\, United States
END:VEVENT
BEGIN:VEVENT
DTSTART;TZID=America/Los_Angeles:20230721T120000
DTEND;TZID=America/Los_Angeles:20230721T200000
DTSTAMP:20260419T234945
CREATED:20230713T060156Z
LAST-MODIFIED:20230713T060156Z
UID:10000273-1689940800-1689969600@goldengategyro.com
SUMMARY:CaliCraft
DESCRIPTION:
URL:https://goldengategyro.com/event/calicraft-14/
LOCATION:Calicraft Brewing Company\, 2700 Mitchell Dr\, Walnut Creek\, CA 94598\, USA
END:VEVENT
BEGIN:VEVENT
DTSTART;TZID=America/Los_Angeles:20230721T140000
DTEND;TZID=America/Los_Angeles:20230721T170000
DTSTAMP:20260419T234945
CREATED:20230727T065739Z
LAST-MODIFIED:20230727T065739Z
UID:10000341-1689948000-1689958800@goldengategyro.com
SUMMARY:New Event
DESCRIPTION:Event details \nFri Jul 21\, 2023 \n2pm – 5pmVagaro \n4400 Rosewood DrivePleasanton\, CA 94588Business: Golden Gate Gyro \, Trailer (1)\, 4PN5940 \nContact: Edina Estrada
URL:https://goldengategyro.com/event/new-event-2/
END:VEVENT
BEGIN:VEVENT
DTSTART;TZID=America/Los_Angeles:20230721T170000
DTEND;TZID=America/Los_Angeles:20230721T210000
DTSTAMP:20260419T234945
CREATED:20230713T060156Z
LAST-MODIFIED:20230713T060156Z
UID:10000272-1689958800-1689973200@goldengategyro.com
SUMMARY:OMCA
DESCRIPTION:Hello Golden Gate Gyro Team\, \nYou have been confirmed for and assigned to the following event: \nEvent Name: Friday Nights at OMCA \nEvent Date / Start Time: 6/17/2022 5:00 PM \nCreator Arrival Time : 30 minutes before the scheduled Start time. \nCreator Departure Time: 30 Minutes after the event ends \nPlease let us know if you have any questions or if you’ve found this message as an error! \nThank you!
URL:https://goldengategyro.com/event/omca-15/
LOCATION:Oakland Museum of California (OMCA)\, 1000 Oak St\, Oakland\, CA 94607\, USA
END:VEVENT
BEGIN:VEVENT
DTSTART;TZID=America/Los_Angeles:20230721T170000
DTEND;TZID=America/Los_Angeles:20230721T210000
DTSTAMP:20260419T234945
CREATED:20230713T060156Z
LAST-MODIFIED:20230713T060156Z
UID:10000274-1689958800-1689973200@goldengategyro.com
SUMMARY:Avalon Bay TOW
DESCRIPTION:AVALON BAY (WALNUT CREEK) – CONTRA COSTA CENTRE TRANSIT VILLAGEDINNERFRIDAY\, 4/7 \nADDRESS – 1001 Harvey Dr.\, Walnut Creek\, CA\, 94597ARRIVE – 4:00pmSERVE – 5:00pm – 9:00pmDEPART – 9:15pmHEADCOUNT – 1000+TRUCK(s) – 4 savory trucks + 1 dessertTOW FEE (DESSERT) – $50+10% \nTRUCKSOFIE’S KITCHENROSIE’S FOOD TRUCKCRAZY EMPANADAS GOLDEN GATE GYROMORE LIIFE ICE
URL:https://goldengategyro.com/event/avalon-bay-tow-5/
LOCATION:Avalon Walnut Creek\, 1001 Harvey Dr\, Walnut Creek\, CA 94597\, USA
END:VEVENT
END:VCALENDAR