BEGIN:VCALENDAR
VERSION:2.0
PRODID:-//GOLDEN GATE GYRO - ECPv6.1.2.2//NONSGML v1.0//EN
CALSCALE:GREGORIAN
METHOD:PUBLISH
X-WR-CALNAME:GOLDEN GATE GYRO
X-ORIGINAL-URL:https://goldengategyro.com
X-WR-CALDESC:Events for GOLDEN GATE GYRO
REFRESH-INTERVAL;VALUE=DURATION:PT1H
X-Robots-Tag:noindex
X-PUBLISHED-TTL:PT1H
BEGIN:VTIMEZONE
TZID:America/Los_Angeles
BEGIN:DAYLIGHT
TZOFFSETFROM:-0800
TZOFFSETTO:-0700
TZNAME:PDT
DTSTART:20230312T100000
END:DAYLIGHT
BEGIN:STANDARD
TZOFFSETFROM:-0700
TZOFFSETTO:-0800
TZNAME:PST
DTSTART:20231105T090000
END:STANDARD
END:VTIMEZONE
BEGIN:VEVENT
DTSTART;TZID=America/Los_Angeles:20230703T170000
DTEND;TZID=America/Los_Angeles:20230703T210000
DTSTAMP:20260424T000621
CREATED:20230713T060153Z
LAST-MODIFIED:20230713T060153Z
UID:10000248-1688403600-1688418000@goldengategyro.com
SUMMARY:FTM
DESCRIPTION:Important information:Must arrive by 3:00 NO EXCEPTIONS. There will be a $100 late fee if you arrive after 3:00.There will be a Fire Inspection when you arrive so please make sure you are in compliance.MUST have your SC Health Permit posted on the truck.I would recommend bringing truck levelers if your truck needs to be completely level. There MAY be a couple spots that won’t be completely level. But not too bad. Be prepared to be busy. They are expecting a minimum of 2\,000 people.
URL:https://goldengategyro.com/event/ftm-6/
END:VEVENT
END:VCALENDAR